BEGIN:VCALENDAR
VERSION:2.0
PRODID:-//TYPO3/NONSGML News system (news)//EN
BEGIN:VEVENT
UID:news-127558@research-careers-campus.uni-graz.at
DTSTAMP:20260415T082125Z
DTSTART:20260611T110000Z
DTEND:20260611T130000Z
SUMMARY:Protecting your research: A short guide to intellectual property rights by FMS
END:VEVENT
END:VCALENDAR
