BEGIN:VCALENDAR
VERSION:2.0
PRODID:-//TYPO3/NONSGML News system (news)//EN
BEGIN:VEVENT
UID:news-132136@research-careers-campus.uni-graz.at
DTSTAMP:20260311T132852Z
DTSTART:20261021T170000Z
DTEND:20261021T190000Z
SUMMARY:PostDoc Social Evening: Free Pizza

DESCRIPTION:Come along to some start-of-the-semester networking!
END:VEVENT
END:VCALENDAR
