BEGIN:VCALENDAR
VERSION:2.0
PRODID:-//TYPO3/NONSGML News system (news)//EN
BEGIN:VEVENT
UID:news-132117@research-careers-campus.uni-graz.at
DTSTAMP:20260120T095759Z
DTSTART:20260929T070000Z
DTEND:20260930T103000Z
SUMMARY:Planning to apply for a professorship? Training to prepare for the appointment process 

DESCRIPTION:RCC-Workshop with Margarete Hubrath
END:VEVENT
END:VCALENDAR
