BEGIN:VCALENDAR
VERSION:2.0
PRODID:-//TYPO3/NONSGML News system (news)//EN
BEGIN:VEVENT
UID:news-133035@research-careers-campus.uni-graz.at
DTSTAMP:20260116T093446Z
DTSTART:20260701T080000Z
DTEND:20260701T100000Z
SUMMARY:LinkedIn for researchers: Finding your voice, audience, and having fun (Expert Talk) 

DESCRIPTION:Join us for an expert talk on Jul 1
END:VEVENT
END:VCALENDAR
