BEGIN:VCALENDAR
VERSION:2.0
PRODID:-//TYPO3/NONSGML News system (news)//EN
BEGIN:VEVENT
UID:news-131092@research-careers-campus.uni-graz.at
DTSTAMP:20251119T130803Z
DTSTART:20260611T070000Z
DTEND:20260611T110000Z
SUMMARY:Leadership Lab for Researchers: Communication Skills for Research Leaders

DESCRIPTION:In-Person Workshop with Yasmin Dolak-Struss
END:VEVENT
END:VCALENDAR
