BEGIN:VCALENDAR
VERSION:2.0
PRODID:-//TYPO3/NONSGML News system (news)//EN
BEGIN:VEVENT
UID:news-134541@research-careers-campus.uni-graz.at
DTSTAMP:20260310T074329Z
DTSTART:20270201T080000Z
DTEND:20270202T150000Z
SUMMARY:Introduction to Python

DESCRIPTION:Workshop for PhD candidates, and all researchers with PhD
END:VEVENT
END:VCALENDAR
