BEGIN:VCALENDAR
VERSION:2.0
PRODID:-//TYPO3/NONSGML News system (news)//EN
BEGIN:VEVENT
UID:news-133630@research-careers-campus.uni-graz.at
DTSTAMP:20260210T101821Z
DTSTART:20260513T090000Z
DTEND:20260513T100000Z
SUMMARY:How to start failing upwards

DESCRIPTION:Practical advice for doctoral researchers to overcome setbacks
END:VEVENT
END:VCALENDAR
