BEGIN:VCALENDAR
VERSION:2.0
PRODID:-//TYPO3/NONSGML News system (news)//EN
BEGIN:VEVENT
UID:news-134543@research-careers-campus.uni-graz.at
DTSTAMP:20260310T074248Z
DTSTART:20261201T074500Z
DTEND:20261201T150000Z
SUMMARY:Erfolgreiche Veranstaltungen designen: Kreativität trifft Strategie

DESCRIPTION:Workshop für Forschende und alle, die mit Forschenden arbeiten
END:VEVENT
END:VCALENDAR
